BEGIN:VCALENDAR
VERSION:2.0
PRODID:-//eventon.com NONSGML v1.0//EN
BEGIN:VEVENT
UID:69e7a44c9b8c1
DTSTAMP:20260421T092236
DTSTART:20210206T170000Z
DTEND:20210206T190000Z
LOCATION:
SUMMARY:PRODUCT DEVELOPMENT + DESIGN THINKING: Prototype & Development session
DESCRIPTION: Session #5 in the 2021 FIRST California Workshop Series: PRODUCT DEVELOPMENT + DESIGN THINKING. [button link="https://cafirst.org/product-development-design-thinking/" type="big" newwindow="yes"] Sign up for the Series[/button] For FIRST Tech Challenge and FIRST Robotics Competition teams in California to support you through the FIRST Innovation Challenge\,  presented by Qualcomm. ----------------- Prototype & Development - Feb 6th\,  2021\, [..]
END:VEVENT
END:VCALENDAR