BEGIN:VCALENDAR
VERSION:2.0
PRODID:-//eventon.com NONSGML v1.0//EN
BEGIN:VEVENT
UID:69e76c77049c8
DTSTAMP:20260421T052423
DTSTART:20210123T170000Z
DTEND:20210123T190000Z
LOCATION:
SUMMARY:PRODUCT DEVELOPMENT + DESIGN THINKING: Filtering and Evaluation session
DESCRIPTION: Session #3 in the 2021 FIRST California Workshop Series: PRODUCT DEVELOPMENT + DESIGN THINKING. [button link="https://cafirst.org/product-development-design-thinking/" type="big" newwindow="yes"] Watch the Replay[/button] For FIRST Tech Challenge and FIRST Robotics Competition teams in California to support you through the FIRST Innovation Challenge\,  presented by Qualcomm. ----------------- Filtering and Evaluation - Jan 23rd\,  2021\,  10am-noon PST[..]
END:VEVENT
END:VCALENDAR