BEGIN:VCALENDAR
VERSION:2.0
PRODID:-//eventon.com NONSGML v1.0//EN
BEGIN:VEVENT
UID:69e7553918bcb
DTSTAMP:20260421T034513
DTSTART:20210116T170000Z
DTEND:20210116T190000Z
LOCATION:
SUMMARY:PRODUCT DEVELOPMENT + DESIGN THINKING: Ideation session
DESCRIPTION: Session #2 in the 2021 FIRST California Workshop Series: PRODUCT DEVELOPMENT + DESIGN THINKING. [button link="https://cafirst.org/product-development-design-thinking/" type="big" newwindow="yes"] Watch the Replay[/button] For FIRST Tech Challenge and FIRST Robotics Competition teams in California to support you through the FIRST Innovation Challenge\,  presented by Qualcomm. ----------------- Ideation - Jan 16th\,  2021\,  10am-noon PST Session #2[..]
END:VEVENT
END:VCALENDAR