BEGIN:VCALENDAR
VERSION:2.0
PRODID:-//eventon.com NONSGML v1.0//EN
BEGIN:VEVENT
UID:69e88da3260ef
DTSTAMP:20260422T015811
DTSTART:20200319T150000Z
DTEND:20200323T000000Z
LOCATION:VENTURA COLLEGE 4667 Telegraph Rd.
SUMMARY:Ventura Regional - postponed
DESCRIPTION: Ventura Regional - postponed
END:VEVENT
END:VCALENDAR