BEGIN:VCALENDAR
VERSION:2.0
PRODID:-//eventon.com NONSGML v1.0//EN
BEGIN:VEVENT
UID:69e8703e41f0f
DTSTAMP:20260421T235246
DTSTART:20210625T030000Z
DTEND:20210625T040000Z
LOCATION:
SUMMARY:Social Hour - FIRST California Alumni
DESCRIPTION: ATTN: FIRST California Alumni! The 1st California FIRST Alumni virtual Social Hour is this Thursday\,  June 24th - 8pm-9pm PDT. 🔗 Direct link to join on June 24\,  8pm: https://zoom.us/j/96883572941 Bring some snacks\,  a drink\,  and get ready to enjoy a casual chit chat\,  virtual games\,  and a chance to[..]
END:VEVENT
END:VCALENDAR