BEGIN:VCALENDAR
VERSION:2.0
PRODID:-//eventon.com NONSGML v1.0//EN
BEGIN:VEVENT
UID:69e8614a7b385
DTSTAMP:20260421T224858
DTSTART:20210626T160000Z
DTEND:20210626T170000Z
LOCATION:
SUMMARY:Championship Award Celebration - FIRST Robotics Competition
DESCRIPTION: A virtual celebration broadcast (featuring special guests!) on Saturday\,  June 26\,  2021\,  at 9am Pacific Time to reveal the following: 2021 FIRST Robotics Competition Dean’s List Award Winners 2021 Volunteers of the Year 2021 Woodie Flowers Award Game Design Challenge Winners Championship level Chairman’s Award Winners and Finalists WATCH on[..]
END:VEVENT
END:VCALENDAR